{"text_format":"1","workbook":"xlsx","n_sheets":10,"sheets":["Cockpit","Essen","Bekleidung","Fahrten","Versicherungen","Berufsschule","Freizeit","Sparen","Nebenerwerb","Werteliste"],"not_rendered":{"charts":0,"images":0,"macros":1,"external_links":0,"defined_names":0,"comments":0,"pivot_tables":0},"unopened":[],"bounds":{"document_bytes":16777216,"sheet_cells":100000,"rows_first":2000,"rows_last":500,"rows_between":2000,"halvings":0,"cell_chars":16384,"cell_head_chars":4096},"cells_cut":0,"cells_raw":0,"read":"whole","date_system":"1900"}

{"sheet":"Cockpit","index":0,"n_rows":23,"n_cols":6,"rows_kept":23,"cut":false,"hidden":false,"merged":[[0,0,0,5]]}
["mein Ausbildungsbudget"]
[null,null,null,null,null,1]
["Einnahmen","Budget","Effektiv","Differenz",null,"bitte auswählen"]
[]
["Lohn",630,630,{"$f":"B5-C5","v":0}]
["Nebenerwerb",80,{"$f":"SUM(Nebenerwerb!D:D)","v":30},{"$f":"B6-C6","v":50}]
[]
["Total Einnahmen",{"$f":"SUM(B5:B6)","v":710},{"$f":"SUM(C5:C6)","v":660},50]
[]
[]
["Ausgaben"]
[]
["Abgabe zuhause",100,{"$f":"B13","v":100},0]
["Essen auswärts",200,{"$f":"SUM(Essen!D:D)","v":31.4},168.6]
["Bekleidung/Schuhe",120,{"$f":"SUM(Bekleidung!D:D)","v":54.8},65.2]
["Fahrzeug, Fahrten",90,{"$f":"SUM(Fahrten!D:D)","v":136.19999999999999},-46.199999999999989]
["Versicherungen",20,{"$f":"SUM(Versicherungen!D:D)","v":15},5]
["Berufsschule",10,{"$f":"SUM(Berufsschule!D:D)","v":18},-8]
["Freizeit",120,{"$f":"SUM(Freizeit!D:D)","v":65},55]
["Sparen",50,{"$f":"SUM(Sparen!D:D)","v":50},0]
[]
[]
["Total Ausgaben",{"$f":"SUM(B13:B20)","v":710},{"$f":"SUM(C13:C20)","v":470.4},239.60000000000002]

{"sheet":"Essen","index":1,"n_rows":5,"n_cols":5,"rows_kept":5,"cut":false,"hidden":false,"merged":[]}
["Datum","Positionen (Essen)","Budget","aus","Saldo"]
["2022-07-01","Übertrag",{"$f":"Cockpit!B14","v":200},null,{"$f":"C2","v":200}]
[null,"Mittagessen Krone",null,15,{"$f":"IF(E2=\"\",\"\",E2-D3)","v":185}]
["2022-07-03","Mittagessen eingekauft",null,8.5,{"$f":"IF(E3=\"\",\"\",E3-D4)","v":176.5}]
["2022-07-05","Mc Donald",null,7.9,{"$f":"IF(E4=\"\",\"\",E4-D5)","v":168.6}]

{"sheet":"Bekleidung","index":2,"n_rows":4,"n_cols":5,"rows_kept":4,"cut":false,"hidden":false,"merged":[]}
["Datum","Positionen (Bekleidung)","Budget","aus","Saldo"]
["2022-07-01","Übertrag",{"$f":"Cockpit!B15","v":120},null,{"$f":"C2","v":120}]
[null,null,null,null,{"$f":"IF(E2=\"\",\"\",E2-D3)","v":120}]
["2022-07-09","T-Shirts",null,54.8,{"$f":"IF(E3=\"\",\"\",E3-D4)","v":65.2}]

{"sheet":"Fahrten","index":3,"n_rows":4,"n_cols":5,"rows_kept":4,"cut":false,"hidden":false,"merged":[]}
["Datum","Positionen (Fahrten)","Budget","aus","Saldo"]
["2022-07-01","Übertrag",{"$f":"Cockpit!B16","v":90},null,{"$f":"C2","v":90}]
[null,null,null,null,{"$f":"IF(E2=\"\",\"\",E2-D3)","v":90}]
["2022-07-12","Töffreparatur",null,136.19999999999999,{"$f":"IF(E3=\"\",\"\",E3-D4)","v":-46.199999999999989}]

{"sheet":"Versicherungen","index":4,"n_rows":4,"n_cols":5,"rows_kept":4,"cut":false,"hidden":false,"merged":[]}
["Datum","Positionen (Versicherungen)","Budget","aus","Saldo"]
["2022-07-01","Übertrag",{"$f":"Cockpit!B17","v":20},null,{"$f":"C2","v":20}]
[null,null,null,null,{"$f":"IF(E2=\"\",\"\",E2-D3)","v":20}]
["2022-07-20","Anteil Krankenkasse",null,15,{"$f":"IF(E3=\"\",\"\",E3-D4)","v":5}]

{"sheet":"Berufsschule","index":5,"n_rows":4,"n_cols":5,"rows_kept":4,"cut":false,"hidden":false,"merged":[]}
["Datum","Positionen (Berufsschule)","Budget","aus","Saldo"]
["2022-07-01","Übertrag",{"$f":"Cockpit!B18","v":10},null,{"$f":"C2","v":10}]
[null,null,null,null,{"$f":"IF(E2=\"\",\"\",E2-D3)","v":10}]
["2022-07-22","Exkursion",null,18,{"$f":"IF(E3=\"\",\"\",E3-D4)","v":-8}]

{"sheet":"Freizeit","index":6,"n_rows":4,"n_cols":5,"rows_kept":4,"cut":false,"hidden":false,"merged":[]}
["Datum","Positionen (Freizeit)","Budget","aus","Saldo"]
["2022-07-01","Übertrag",{"$f":"Cockpit!B19","v":120},null,{"$f":"C2","v":120}]
[null,null,null,null,{"$f":"IF(E2=\"\",\"\",E2-D3)","v":120}]
["2022-07-24","Kinobesuch und Ausgang",null,65,{"$f":"IF(E3=\"\",\"\",E3-D4)","v":55}]

{"sheet":"Sparen","index":7,"n_rows":4,"n_cols":5,"rows_kept":4,"cut":false,"hidden":false,"merged":[]}
["Datum","Positionen (Sparen)","Budget","aus","Saldo"]
["2022-07-01","Übertrag",{"$f":"Cockpit!B20","v":50},null,{"$f":"C2","v":50}]
[null,null,null,null,{"$f":"IF(E2=\"\",\"\",E2-D3)","v":50}]
["2022-07-28","Einlage Sparkonto",null,50,{"$f":"IF(E3=\"\",\"\",E3-D4)","v":0}]

{"sheet":"Nebenerwerb","index":8,"n_rows":3,"n_cols":5,"rows_kept":3,"cut":false,"hidden":false,"merged":[]}
["Datum","Positionen (Nebenerwerb)","Budget","ein","Saldo"]
["2022-07-01","Übertrag",{"$f":"Cockpit!B6","v":80},0,{"$f":"D2","v":0}]
["2022-07-13","Rasenmähen (Nachbar)",null,30,{"$f":"IF(E2=\"\",\"\",E2+D3)","v":30}]

{"sheet":"Werteliste","index":9,"n_rows":9,"n_cols":1,"rows_kept":9,"cut":false,"hidden":false,"merged":[]}
["wohin?"]
["Essen"]
["Bekleidung"]
["Fahrten"]
["Versicherungen"]
["Berufsschule"]
["Freizeit"]
["Sparen"]
["Nebenerwerb"]